Package: DelayedMatrixStats Version: 1.29.1 Command: rm -rf DelayedMatrixStats.buildbin-libdir && mkdir DelayedMatrixStats.buildbin-libdir && /Users/biocbuild/BBS/utils/build-universal.sh DelayedMatrixStats_1.29.1.tar.gz /Library/Frameworks/R.framework/Resources/bin/R DelayedMatrixStats.buildbin-libdir StartedAt: 2025-02-05 00:36:25 -0500 (Wed, 05 Feb 2025) EndedAt: 2025-02-05 00:36:56 -0500 (Wed, 05 Feb 2025) EllapsedTime: 31.0 seconds RetCode: 0 Status: OK PackageFile: DelayedMatrixStats_1.29.1.tgz PackageFileSize: 726.6 KiB