Package: DelayedMatrixStats Version: 1.29.1 Command: /home/biocbuild/bbs-3.21-bioc/R/bin/R CMD build --keep-empty-dirs --no-resave-data DelayedMatrixStats StartedAt: 2025-02-12 16:53:38 -0500 (Wed, 12 Feb 2025) EndedAt: 2025-02-12 16:57:56 -0500 (Wed, 12 Feb 2025) EllapsedTime: 258.2 seconds RetCode: 0 Status: OK PackageFile: DelayedMatrixStats_1.29.1.tar.gz PackageFileSize: 264.4 KiB