Package: DiffBind Version: 3.17.3 Maintainer: Rory Stark MaintainerEmail: bioconductor at starkhome.com git_url: https://git.bioconductor.org/packages/DiffBind git_branch: devel git_last_commit: ffd064b git_last_commit_date: 2025-01-20 09:44:13 -0500 (Mon, 20 Jan 2025)