Package: DiffBind Version: 3.17.3 Command: /home/biocbuild/R/R/bin/R CMD build --keep-empty-dirs --no-resave-data DiffBind StartedAt: 2025-01-28 22:28:02 -0000 (Tue, 28 Jan 2025) EndedAt: 2025-01-28 22:33:01 -0000 (Tue, 28 Jan 2025) EllapsedTime: 299.1 seconds RetCode: 0 Status: OK PackageFile: DiffBind_3.17.3.tar.gz PackageFileSize: 6.474 MiB