Package: DiffBind Version: 3.17.3 Command: /home/biocbuild/R/R/bin/R CMD check --install=check:DiffBind.install-out.txt --library=/home/biocbuild/R/R/site-library --no-vignettes --timings DiffBind_3.17.3.tar.gz StartedAt: 2025-01-28 09:57:23 -0000 (Tue, 28 Jan 2025) EndedAt: 2025-01-28 10:10:27 -0000 (Tue, 28 Jan 2025) EllapsedTime: 783.8 seconds RetCode: 0 Status: OK CheckDir: DiffBind.Rcheck Warnings: 0