Package: DiffBind Version: 3.17.3 Command: /home/biocbuild/R/R/bin/R CMD INSTALL DiffBind StartedAt: 2025-01-29 20:06:41 -0000 (Wed, 29 Jan 2025) EndedAt: 2025-01-29 20:08:30 -0000 (Wed, 29 Jan 2025) EllapsedTime: 109.1 seconds RetCode: 0 Status: OK