Package: DiffBind Version: 3.17.3 Command: /Library/Frameworks/R.framework/Resources/bin/R CMD build --keep-empty-dirs --no-resave-data DiffBind StartedAt: 2025-02-09 16:33:31 -0500 (Sun, 09 Feb 2025) EndedAt: 2025-02-09 16:37:40 -0500 (Sun, 09 Feb 2025) EllapsedTime: 248.9 seconds RetCode: 0 Status: OK PackageFile: DiffBind_3.17.3.tar.gz PackageFileSize: 6.484 MiB