Package: DiffBind Version: 3.17.3 Command: /Library/Frameworks/R.framework/Resources/bin/R CMD check --install=check:DiffBind.install-out.txt --library=/Library/Frameworks/R.framework/Resources/library --no-vignettes --timings DiffBind_3.17.3.tar.gz StartedAt: 2025-02-09 20:19:05 -0500 (Sun, 09 Feb 2025) EndedAt: 2025-02-09 20:30:18 -0500 (Sun, 09 Feb 2025) EllapsedTime: 672.7 seconds RetCode: 0 Status: OK CheckDir: DiffBind.Rcheck Warnings: 0