Package: DiffBind Version: 3.17.3 Command: /Library/Frameworks/R.framework/Resources/bin/R CMD INSTALL DiffBind StartedAt: 2025-02-12 15:25:12 -0500 (Wed, 12 Feb 2025) EndedAt: 2025-02-12 15:26:52 -0500 (Wed, 12 Feb 2025) EllapsedTime: 100.0 seconds RetCode: 0 Status: OK