Package: DiffBind Version: 3.17.3 Command: chmod a+r DiffBind -R && E:\biocbuild\bbs-3.21-bioc\R\bin\R.exe CMD build --keep-empty-dirs --no-resave-data DiffBind StartedAt: 2025-02-09 18:21:14 -0500 (Sun, 09 Feb 2025) EndedAt: 2025-02-09 18:26:53 -0500 (Sun, 09 Feb 2025) EllapsedTime: 339.1 seconds RetCode: 0 Status: OK PackageFile: DiffBind_3.17.3.tar.gz PackageFileSize: 6.489 MiB