Package: Director Version: 1.33.0 Command: /Library/Frameworks/R.framework/Resources/bin/R CMD INSTALL Director StartedAt: 2025-02-12 15:10:25 -0500 (Wed, 12 Feb 2025) EndedAt: 2025-02-12 15:10:27 -0500 (Wed, 12 Feb 2025) EllapsedTime: 2.8 seconds RetCode: 0 Status: OK