Package: Director Version: 1.33.0 Command: /home/biocbuild/R/R/bin/R CMD build --keep-empty-dirs --no-resave-data Director StartedAt: 2025-01-28 22:29:59 -0000 (Tue, 28 Jan 2025) EndedAt: 2025-01-28 22:30:08 -0000 (Tue, 28 Jan 2025) EllapsedTime: 9.0 seconds RetCode: 0 Status: OK PackageFile: Director_1.33.0.tar.gz PackageFileSize: 689.9 KiB