Package: Director Version: 1.33.0 Command: /home/biocbuild/R/R/bin/R CMD INSTALL Director StartedAt: 2025-01-29 20:00:27 -0000 (Wed, 29 Jan 2025) EndedAt: 2025-01-29 20:00:31 -0000 (Wed, 29 Jan 2025) EllapsedTime: 3.6 seconds RetCode: 0 Status: OK