Package: Director Version: 1.33.0 Command: rm -rf Director.buildbin-libdir && mkdir Director.buildbin-libdir && /Users/biocbuild/BBS/utils/build-universal.sh Director_1.33.0.tar.gz /Library/Frameworks/R.framework/Resources/bin/R Director.buildbin-libdir StartedAt: 2025-02-10 00:50:50 -0500 (Mon, 10 Feb 2025) EndedAt: 2025-02-10 00:50:57 -0500 (Mon, 10 Feb 2025) EllapsedTime: 6.9 seconds RetCode: 0 Status: OK PackageFile: Director_1.33.0.tgz PackageFileSize: 575.7 KiB