Package: Director Version: 1.33.0 Command: chmod a+r Director -R && E:\biocbuild\bbs-3.21-bioc\R\bin\R.exe CMD build --keep-empty-dirs --no-resave-data Director StartedAt: 2025-02-09 18:23:46 -0500 (Sun, 09 Feb 2025) EndedAt: 2025-02-09 19:03:47 -0500 (Sun, 09 Feb 2025) EllapsedTime: 2400.4 seconds RetCode: None Status: TIMEOUT PackageFile: None PackageFileSize: NA