Package: DominoEffect Version: 1.27.0 Command: rm -rf DominoEffect.buildbin-libdir && mkdir DominoEffect.buildbin-libdir && /Users/biocbuild/BBS/utils/build-universal.sh DominoEffect_1.27.0.tar.gz /Library/Frameworks/R.framework/Resources/bin/R DominoEffect.buildbin-libdir StartedAt: 2025-02-09 22:12:45 -0500 (Sun, 09 Feb 2025) EndedAt: 2025-02-09 22:13:03 -0500 (Sun, 09 Feb 2025) EllapsedTime: 18.4 seconds RetCode: 0 Status: OK PackageFile: DominoEffect_1.27.0.tgz PackageFileSize: 548.3 KiB