Package: DominoEffect Version: 1.27.0 Command: /home/biocbuild/bbs-3.21-bioc/R/bin/R CMD INSTALL DominoEffect StartedAt: 2025-02-09 15:49:30 -0500 (Sun, 09 Feb 2025) EndedAt: 2025-02-09 15:50:12 -0500 (Sun, 09 Feb 2025) EllapsedTime: 42.1 seconds RetCode: 0 Status: OK