Package: DominoEffect Version: 1.27.0 Command: rm -rf DominoEffect.buildbin-libdir && mkdir DominoEffect.buildbin-libdir && E:\biocbuild\bbs-3.21-bioc\R\bin\R.exe CMD INSTALL --build --library=DominoEffect.buildbin-libdir DominoEffect_1.27.0.tar.gz StartedAt: 2025-02-10 07:39:07 -0500 (Mon, 10 Feb 2025) EndedAt: 2025-02-10 07:40:00 -0500 (Mon, 10 Feb 2025) EllapsedTime: 52.5 seconds RetCode: 0 Status: OK PackageFile: DominoEffect_1.27.0.zip PackageFileSize: 553.1 KiB