Package: DominoEffect Version: 1.27.0 Command: chmod a+r DominoEffect -R && E:\biocbuild\bbs-3.21-bioc\R\bin\R.exe CMD build --keep-empty-dirs --no-resave-data DominoEffect StartedAt: 2025-02-09 18:26:23 -0500 (Sun, 09 Feb 2025) EndedAt: 2025-02-09 18:27:49 -0500 (Sun, 09 Feb 2025) EllapsedTime: 86.1 seconds RetCode: 0 Status: OK PackageFile: DominoEffect_1.27.0.tar.gz PackageFileSize: 473.8 KiB