Package: DominoEffect Version: 1.27.0 Command: E:\biocbuild\bbs-3.21-bioc\R\bin\R.exe CMD check --no-multiarch --install=check:DominoEffect.install-out.txt --library=E:\biocbuild\bbs-3.21-bioc\R\library --no-vignettes --timings DominoEffect_1.27.0.tar.gz StartedAt: 2025-02-13 00:48:05 -0500 (Thu, 13 Feb 2025) EndedAt: 2025-02-13 00:54:43 -0500 (Thu, 13 Feb 2025) EllapsedTime: 398.2 seconds RetCode: 0 Status: OK CheckDir: DominoEffect.Rcheck Warnings: 0