Package: DominoEffect Version: 1.27.0 Command: E:\biocbuild\bbs-3.21-bioc\R\bin\R.exe CMD INSTALL DominoEffect StartedAt: 2025-02-09 16:41:04 -0500 (Sun, 09 Feb 2025) EndedAt: 2025-02-09 16:41:55 -0500 (Sun, 09 Feb 2025) EllapsedTime: 51.6 seconds RetCode: 0 Status: OK