Package: Doscheda Version: 1.29.0 Command: /Library/Frameworks/R.framework/Resources/bin/R CMD build --keep-empty-dirs --no-resave-data Doscheda StartedAt: 2025-02-04 16:11:28 -0500 (Tue, 04 Feb 2025) EndedAt: 2025-02-04 16:11:54 -0500 (Tue, 04 Feb 2025) EllapsedTime: 26.3 seconds RetCode: 0 Status: OK PackageFile: Doscheda_1.29.0.tar.gz PackageFileSize: 3.854 MiB