Package: Doscheda Version: 1.29.0 Command: /Library/Frameworks/R.framework/Resources/bin/R CMD check --install=check:Doscheda.install-out.txt --library=/Library/Frameworks/R.framework/Resources/library --no-vignettes --timings Doscheda_1.29.0.tar.gz StartedAt: 2025-02-04 19:02:28 -0500 (Tue, 04 Feb 2025) EndedAt: 2025-02-04 19:04:21 -0500 (Tue, 04 Feb 2025) EllapsedTime: 112.3 seconds RetCode: 0 Status: OK CheckDir: Doscheda.Rcheck Warnings: 0