Package: Doscheda Version: 1.29.0 Command: /Library/Frameworks/R.framework/Resources/bin/R CMD INSTALL Doscheda StartedAt: 2025-02-04 15:24:02 -0500 (Tue, 04 Feb 2025) EndedAt: 2025-02-04 15:24:07 -0500 (Tue, 04 Feb 2025) EllapsedTime: 5.2 seconds RetCode: 0 Status: OK