Package: Doscheda Version: 1.29.0 Command: /home/biocbuild/R/R/bin/R CMD INSTALL Doscheda StartedAt: 2025-01-29 20:25:25 -0000 (Wed, 29 Jan 2025) EndedAt: 2025-01-29 20:25:44 -0000 (Wed, 29 Jan 2025) EllapsedTime: 18.6 seconds RetCode: 0 Status: OK