Package: Doscheda Version: 1.29.0 Command: /home/biocbuild/bbs-3.21-bioc/R/bin/R CMD INSTALL Doscheda StartedAt: 2025-02-04 15:12:13 -0500 (Tue, 04 Feb 2025) EndedAt: 2025-02-04 15:12:27 -0500 (Tue, 04 Feb 2025) EllapsedTime: 14.4 seconds RetCode: 0 Status: OK