Package: Doscheda Version: 1.29.0 Command: chmod a+r Doscheda -R && E:\biocbuild\bbs-3.21-bioc\R\bin\R.exe CMD build --keep-empty-dirs --no-resave-data Doscheda StartedAt: 2025-02-09 18:26:52 -0500 (Sun, 09 Feb 2025) EndedAt: 2025-02-09 18:28:02 -0500 (Sun, 09 Feb 2025) EllapsedTime: 70.4 seconds RetCode: 0 Status: OK PackageFile: Doscheda_1.29.0.tar.gz PackageFileSize: 3.215 MiB