Package: Doscheda Version: 1.29.0 Command: E:\biocbuild\bbs-3.21-bioc\R\bin\R.exe CMD check --no-multiarch --install=check:Doscheda.install-out.txt --library=E:\biocbuild\bbs-3.21-bioc\R\library --no-vignettes --timings Doscheda_1.29.0.tar.gz StartedAt: 2025-02-05 01:06:07 -0500 (Wed, 05 Feb 2025) EndedAt: 2025-02-05 01:09:39 -0500 (Wed, 05 Feb 2025) EllapsedTime: 212.1 seconds RetCode: 0 Status: OK CheckDir: Doscheda.Rcheck Warnings: 0