Package: DriverNet Version: 1.47.0 Command: /Library/Frameworks/R.framework/Resources/bin/R CMD build --keep-empty-dirs --no-resave-data DriverNet StartedAt: 2025-02-09 16:11:09 -0500 (Sun, 09 Feb 2025) EndedAt: 2025-02-09 16:11:23 -0500 (Sun, 09 Feb 2025) EllapsedTime: 14.1 seconds RetCode: 0 Status: OK PackageFile: DriverNet_1.47.0.tar.gz PackageFileSize: 1.117 MiB