Package: DriverNet Version: 1.47.0 Command: /home/biocbuild/bbs-3.21-bioc/R/bin/R CMD check --install=check:DriverNet.install-out.txt --library=/home/biocbuild/bbs-3.21-bioc/R/site-library --timings DriverNet_1.47.0.tar.gz StartedAt: 2025-02-09 21:55:14 -0500 (Sun, 09 Feb 2025) EndedAt: 2025-02-09 21:57:05 -0500 (Sun, 09 Feb 2025) EllapsedTime: 111.1 seconds RetCode: 0 Status: OK CheckDir: DriverNet.Rcheck Warnings: 0