Package: DriverNet Version: 1.47.0 Command: E:\biocbuild\bbs-3.21-bioc\R\bin\R.exe CMD INSTALL DriverNet StartedAt: 2025-02-09 15:18:54 -0500 (Sun, 09 Feb 2025) EndedAt: 2025-02-09 15:19:09 -0500 (Sun, 09 Feb 2025) EllapsedTime: 15.5 seconds RetCode: 0 Status: OK