Package: DropletUtils Version: 1.27.2 Command: /home/biocbuild/bbs-3.21-bioc/R/bin/R CMD INSTALL DropletUtils StartedAt: 2025-02-09 15:35:01 -0500 (Sun, 09 Feb 2025) EndedAt: 2025-02-09 15:36:06 -0500 (Sun, 09 Feb 2025) EllapsedTime: 65.6 seconds RetCode: 0 Status: OK