Package: DropletUtils Version: 1.27.2 Command: chmod a+r DropletUtils -R && E:\biocbuild\bbs-3.21-bioc\R\bin\R.exe CMD build --keep-empty-dirs --no-resave-data DropletUtils StartedAt: 2025-02-09 18:27:50 -0500 (Sun, 09 Feb 2025) EndedAt: 2025-02-09 18:29:51 -0500 (Sun, 09 Feb 2025) EllapsedTime: 120.3 seconds RetCode: 0 Status: OK PackageFile: DropletUtils_1.27.2.tar.gz PackageFileSize: 392.8 KiB