Package: DrugVsDisease Version: 2.49.0 Maintainer: j. Saez-Rodriguez MaintainerEmail: saezrodriguez at ebi.ac.uk git_url: https://git.bioconductor.org/packages/DrugVsDisease git_branch: devel git_last_commit: a631f4f git_last_commit_date: 2024-10-29 09:44:21 -0500 (Tue, 29 Oct 2024)