Package: DrugVsDisease Version: 2.49.0 Command: /Library/Frameworks/R.framework/Resources/bin/R CMD INSTALL DrugVsDisease StartedAt: 2025-02-03 15:48:40 -0500 (Mon, 03 Feb 2025) EndedAt: 2025-02-03 15:48:40 -0500 (Mon, 03 Feb 2025) EllapsedTime: 0.2 seconds RetCode: 1 Status: ERROR