Package: DrugVsDisease Version: 2.49.0 Command: /Library/Frameworks/R.framework/Resources/bin/R CMD INSTALL DrugVsDisease StartedAt: 2025-02-09 15:19:57 -0500 (Sun, 09 Feb 2025) EndedAt: 2025-02-09 15:19:59 -0500 (Sun, 09 Feb 2025) EllapsedTime: 1.2 seconds RetCode: 1 Status: ERROR