############################################################################## ############################################################################## ### ### Running command: ### ### /home/biocbuild/bbs-3.21-bioc/R/bin/R CMD build --keep-empty-dirs --no-resave-data DrugVsDisease ### ############################################################################## ############################################################################## * checking for file ‘DrugVsDisease/DESCRIPTION’ ... OK * preparing ‘DrugVsDisease’: * checking DESCRIPTION meta-information ... OK * installing the package to build vignettes ----------------------------------- ERROR: dependency ‘ArrayExpress’ is not available for package ‘DrugVsDisease’ Perhaps try a variation of: install.packages('ArrayExpress') * removing ‘/tmp/RtmpVYBUHP/Rinst3303b21e6daf06/DrugVsDisease’ ----------------------------------- ERROR: package installation failed