Package: DrugVsDisease Version: 2.49.0 Command: /home/biocbuild/bbs-3.21-bioc/R/bin/R CMD INSTALL DrugVsDisease StartedAt: 2025-02-04 15:32:11 -0500 (Tue, 04 Feb 2025) EndedAt: 2025-02-04 15:32:12 -0500 (Tue, 04 Feb 2025) EllapsedTime: 1.3 seconds RetCode: 1 Status: ERROR