Package: DrugVsDisease Version: 2.49.0 Command: rm -rf DrugVsDisease.buildbin-libdir && mkdir DrugVsDisease.buildbin-libdir && E:\biocbuild\bbs-3.21-bioc\R\bin\R.exe CMD INSTALL --build --library=DrugVsDisease.buildbin-libdir DrugVsDisease_2.49.0.tar.gz StartedAt: 2025-02-04 07:53:32 -0500 (Tue, 04 Feb 2025) EndedAt: 2025-02-04 07:54:25 -0500 (Tue, 04 Feb 2025) EllapsedTime: 52.9 seconds RetCode: 0 Status: OK PackageFile: DrugVsDisease_2.49.0.zip PackageFileSize: 2.609 MiB