Package: DrugVsDisease Version: 2.49.0 Command: E:\biocbuild\bbs-3.21-bioc\R\bin\R.exe CMD INSTALL DrugVsDisease StartedAt: 2025-02-03 16:24:33 -0500 (Mon, 03 Feb 2025) EndedAt: 2025-02-03 16:25:17 -0500 (Mon, 03 Feb 2025) EllapsedTime: 44.9 seconds RetCode: 0 Status: OK