Package: Dune Version: 1.19.0 Command: rm -rf Dune.buildbin-libdir && mkdir Dune.buildbin-libdir && /Users/biocbuild/BBS/utils/build-universal.sh Dune_1.19.0.tar.gz /Library/Frameworks/R.framework/Resources/bin/R Dune.buildbin-libdir StartedAt: 2025-02-03 22:48:51 -0500 (Mon, 03 Feb 2025) EndedAt: 2025-02-03 22:49:02 -0500 (Mon, 03 Feb 2025) EllapsedTime: 11.2 seconds RetCode: 0 Status: OK PackageFile: Dune_1.19.0.tgz PackageFileSize: 1.86 MiB