Package: Dune Version: 1.19.0 Command: /Library/Frameworks/R.framework/Resources/bin/R CMD check --install=check:Dune.install-out.txt --library=/Library/Frameworks/R.framework/Resources/library --no-vignettes --timings Dune_1.19.0.tar.gz StartedAt: 2025-02-09 19:02:34 -0500 (Sun, 09 Feb 2025) EndedAt: 2025-02-09 19:04:18 -0500 (Sun, 09 Feb 2025) EllapsedTime: 104.3 seconds RetCode: 1 Status: ERROR CheckDir: Dune.Rcheck Warnings: NA