Package: Dune Version: 1.19.0 Command: /home/biocbuild/R/R/bin/R CMD build --keep-empty-dirs --no-resave-data Dune StartedAt: 2025-01-28 22:36:51 -0000 (Tue, 28 Jan 2025) EndedAt: 2025-01-28 22:37:48 -0000 (Tue, 28 Jan 2025) EllapsedTime: 57.0 seconds RetCode: 0 Status: OK PackageFile: Dune_1.19.0.tar.gz PackageFileSize: 1.217 MiB