Package: Dune Version: 1.19.0 Command: /home/biocbuild/R/R/bin/R CMD INSTALL Dune StartedAt: 2025-01-29 19:58:30 -0000 (Wed, 29 Jan 2025) EndedAt: 2025-01-29 19:59:03 -0000 (Wed, 29 Jan 2025) EllapsedTime: 33.1 seconds RetCode: 0 Status: OK