Package: Dune Version: 1.19.0 Command: /Library/Frameworks/R.framework/Resources/bin/R CMD build --keep-empty-dirs --no-resave-data Dune StartedAt: 2025-02-09 16:37:48 -0500 (Sun, 09 Feb 2025) EndedAt: 2025-02-09 16:38:31 -0500 (Sun, 09 Feb 2025) EllapsedTime: 43.4 seconds RetCode: 0 Status: OK PackageFile: Dune_1.19.0.tar.gz PackageFileSize: 2.295 MiB