Package: Dune Version: 1.19.0 Command: /Library/Frameworks/R.framework/Resources/bin/R CMD check --install=check:Dune.install-out.txt --library=/Library/Frameworks/R.framework/Resources/library --no-vignettes --timings Dune_1.19.0.tar.gz StartedAt: 2025-02-09 20:27:39 -0500 (Sun, 09 Feb 2025) EndedAt: 2025-02-09 20:33:28 -0500 (Sun, 09 Feb 2025) EllapsedTime: 349.2 seconds RetCode: 0 Status: OK CheckDir: Dune.Rcheck Warnings: 0