Package: Dune Version: 1.19.0 Command: /home/biocbuild/bbs-3.21-bioc/R/bin/R CMD build --keep-empty-dirs --no-resave-data Dune StartedAt: 2025-02-09 17:05:02 -0500 (Sun, 09 Feb 2025) EndedAt: 2025-02-09 17:05:42 -0500 (Sun, 09 Feb 2025) EllapsedTime: 40.0 seconds RetCode: 0 Status: OK PackageFile: Dune_1.19.0.tar.gz PackageFileSize: 2.039 MiB