Package: Dune Version: 1.19.0 Command: /home/biocbuild/bbs-3.21-bioc/R/bin/R CMD check --install=check:Dune.install-out.txt --library=/home/biocbuild/bbs-3.21-bioc/R/site-library --timings Dune_1.19.0.tar.gz StartedAt: 2025-02-09 21:57:05 -0500 (Sun, 09 Feb 2025) EndedAt: 2025-02-09 22:01:58 -0500 (Sun, 09 Feb 2025) EllapsedTime: 292.4 seconds RetCode: 0 Status: OK CheckDir: Dune.Rcheck Warnings: 0