Package: Dune Version: 1.19.0 Command: /home/biocbuild/bbs-3.21-bioc/R/bin/R CMD INSTALL Dune StartedAt: 2025-02-09 15:17:25 -0500 (Sun, 09 Feb 2025) EndedAt: 2025-02-09 15:17:48 -0500 (Sun, 09 Feb 2025) EllapsedTime: 23.4 seconds RetCode: 0 Status: OK