Package: Dune Version: 1.19.0 Command: rm -rf Dune.buildbin-libdir && mkdir Dune.buildbin-libdir && E:\biocbuild\bbs-3.21-bioc\R\bin\R.exe CMD INSTALL --build --library=Dune.buildbin-libdir Dune_1.19.0.tar.gz StartedAt: 2025-02-10 07:39:55 -0500 (Mon, 10 Feb 2025) EndedAt: 2025-02-10 07:40:33 -0500 (Mon, 10 Feb 2025) EllapsedTime: 38.7 seconds RetCode: 0 Status: OK PackageFile: Dune_1.19.0.zip PackageFileSize: 581.5 KiB